BEGIN:VCALENDAR
VERSION:2.0
PRODID:-//Kerstin Bogensee - ECPv6.15.20//NONSGML v1.0//EN
CALSCALE:GREGORIAN
METHOD:PUBLISH
X-ORIGINAL-URL:https://kerstinbogensee.de
X-WR-CALDESC:Veranstaltungen für Kerstin Bogensee
REFRESH-INTERVAL;VALUE=DURATION:PT1H
X-Robots-Tag:noindex
X-PUBLISHED-TTL:PT1H
BEGIN:VTIMEZONE
TZID:UTC
BEGIN:STANDARD
TZOFFSETFROM:+0000
TZOFFSETTO:+0000
TZNAME:UTC
DTSTART:20240101T000000
END:STANDARD
END:VTIMEZONE
BEGIN:VEVENT
DTSTART;TZID=UTC:20251206T200000
DTEND;TZID=UTC:20251206T230000
DTSTAMP:20260424T194716
CREATED:20251029T110924Z
LAST-MODIFIED:20251029T112835Z
UID:1811-1765051200-1765062000@kerstinbogensee.de
SUMMARY:Songs for Bluebird
DESCRIPTION:Die Initiatorin dieses besonderen Abends ist die Country Künstlerin ANN DOKA\, bei deren Label mein Album SONNE & ZWEIFEL veröffentlicht ist und die mich in diese schöne Runde eingeladen hat. \nSie schreibt auf ihrem Instagram Profil: \n📅 SA\, 06. DEZ 2025\nSONGS FOR BLUEBIRD @ Kulturhaus Break Out\, Asendorf\n💙 Mein Herzensformat: Gemeinsam mit @ben_moske \, @kerstinbogensee & @duherrlampio teilen wir unsere Songs – und die Geschichten dahinter.\nEin Abend voller Musik\, Freundschaft und ehrlicher Worte.\n🎟️ Tickets & Infos: www.kulturhaus-bo.de
URL:https://kerstinbogensee.de/event/songs-for-bluebird/
ATTACH;FMTTYPE=image/jpeg:https://kerstinbogensee.de/wp-content/uploads/2025/10/Songs-for-Bluebird-quad-e1755614969385.jpg
END:VEVENT
END:VCALENDAR