BEGIN:VCALENDAR
VERSION:2.0
PRODID:-//Kerstin Bogensee - ECPv6.15.20//NONSGML v1.0//EN
CALSCALE:GREGORIAN
METHOD:PUBLISH
X-ORIGINAL-URL:https://kerstinbogensee.de
X-WR-CALDESC:Veranstaltungen für Kerstin Bogensee
REFRESH-INTERVAL;VALUE=DURATION:PT1H
X-Robots-Tag:noindex
X-PUBLISHED-TTL:PT1H
BEGIN:VTIMEZONE
TZID:UTC
BEGIN:STANDARD
TZOFFSETFROM:+0000
TZOFFSETTO:+0000
TZNAME:UTC
DTSTART:20240101T000000
END:STANDARD
END:VTIMEZONE
BEGIN:VEVENT
DTSTART;TZID=UTC:20250719T193000
DTEND;TZID=UTC:20250719T223000
DTSTAMP:20260425T013508
CREATED:20250514T095205Z
LAST-MODIFIED:20250514T095739Z
UID:1793-1752953400-1752964200@kerstinbogensee.de
SUMMARY:4. FrischLuftKulturAbend Löwenstedt
DESCRIPTION:
URL:https://kerstinbogensee.de/event/4-frischluftkulturabend-loewenstedt/
ATTACH;FMTTYPE=image/jpeg:https://kerstinbogensee.de/wp-content/uploads/2025/05/Kulturabend-Loewenstedt.jpg
END:VEVENT
END:VCALENDAR