BEGIN:VCALENDAR
VERSION:2.0
PRODID:-//Kerstin Bogensee - ECPv6.15.20//NONSGML v1.0//EN
CALSCALE:GREGORIAN
METHOD:PUBLISH
X-ORIGINAL-URL:https://kerstinbogensee.de
X-WR-CALDESC:Veranstaltungen für Kerstin Bogensee
REFRESH-INTERVAL;VALUE=DURATION:PT1H
X-Robots-Tag:noindex
X-PUBLISHED-TTL:PT1H
BEGIN:VTIMEZONE
TZID:UTC
BEGIN:STANDARD
TZOFFSETFROM:+0000
TZOFFSETTO:+0000
TZNAME:UTC
DTSTART:20250101T000000
END:STANDARD
END:VTIMEZONE
BEGIN:VEVENT
DTSTART;TZID=UTC:20260228T200000
DTEND;TZID=UTC:20260228T220000
DTSTAMP:20260424T193212
CREATED:20260122T094035Z
LAST-MODIFIED:20260122T094223Z
UID:1823-1772308800-1772316000@kerstinbogensee.de
SUMMARY:AuLa in Langballig & BAND
DESCRIPTION:Am 28.2.26 komme ich mit meiner Band in die AuLa in Langballig. \nEinlass: 19 Uhr Beginn: 20 Uhr \nVVK: 20€  Abendkasse 22 € \nKartenvorverkauf in Langballig bei EDEKA\, Tankstelle oder Apotheke \noder per Email an Dietmaralexa@t-online.de
URL:https://kerstinbogensee.de/event/aula-in-langballig-mit-band/
ATTACH;FMTTYPE=image/jpeg:https://kerstinbogensee.de/wp-content/uploads/2026/01/614440078_863485616667143_4111458371513131695_n.jpg
END:VEVENT
END:VCALENDAR