BEGIN:VCALENDAR
VERSION:2.0
PRODID:-//Kerstin Bogensee - ECPv6.15.20//NONSGML v1.0//EN
CALSCALE:GREGORIAN
METHOD:PUBLISH
X-ORIGINAL-URL:https://kerstinbogensee.de
X-WR-CALDESC:Veranstaltungen für Kerstin Bogensee
REFRESH-INTERVAL;VALUE=DURATION:PT1H
X-Robots-Tag:noindex
X-PUBLISHED-TTL:PT1H
BEGIN:VTIMEZONE
TZID:UTC
BEGIN:STANDARD
TZOFFSETFROM:+0000
TZOFFSETTO:+0000
TZNAME:UTC
DTSTART:20250101T000000
END:STANDARD
END:VTIMEZONE
BEGIN:VEVENT
DTSTART;TZID=UTC:20261114T200000
DTEND;TZID=UTC:20261114T223000
DTSTAMP:20260425T014836
CREATED:20260122T101115Z
LAST-MODIFIED:20260122T101115Z
UID:1834-1794686400-1794695400@kerstinbogensee.de
SUMMARY:Imagine Bar Flensburg & BAND
DESCRIPTION:Man kann es schon fast eine Tradition nennen: Mit Band in der Imagine Bar am Deutschen Haus in Flensburg zu spielen. \nFür Tickets schreibt mich gerne an unter info@kerstinbogensee.de \nSie werden wieder um die 20€ kosten.
URL:https://kerstinbogensee.de/event/imagine-bar-flensburg-band/
ATTACH;FMTTYPE=image/jpeg:https://kerstinbogensee.de/wp-content/uploads/2026/01/KerstinBogenseeBandFoto1.jpg
END:VEVENT
END:VCALENDAR